BEGIN:VCALENDAR
VERSION:2.0
PRODID:-//Stefan Claas | Dirigent | Dozent | Arrangeur - ECPv5.2.1.1//NONSGML v1.0//EN
CALSCALE:GREGORIAN
METHOD:PUBLISH
X-WR-CALNAME:Stefan Claas | Dirigent | Dozent | Arrangeur
X-ORIGINAL-URL:https://stefan-claas.de
X-WR-CALDESC:Veranstaltungen für Stefan Claas | Dirigent | Dozent | Arrangeur
BEGIN:VTIMEZONE
TZID:Europe/Berlin
BEGIN:DAYLIGHT
TZOFFSETFROM:+0100
TZOFFSETTO:+0200
TZNAME:CEST
DTSTART:20190331T010000
END:DAYLIGHT
BEGIN:STANDARD
TZOFFSETFROM:+0200
TZOFFSETTO:+0100
TZNAME:CET
DTSTART:20191027T010000
END:STANDARD
END:VTIMEZONE
BEGIN:VEVENT
DTSTART;TZID=Europe/Berlin:20191016T190000
DTEND;TZID=Europe/Berlin:20191016T190000
DTSTAMP:20260422T115528
CREATED:20181207T152204Z
LAST-MODIFIED:20181209T091105Z
UID:506-1571252400-1571252400@stefan-claas.de
SUMMARY:„Wir sind das Volk“ (Guido Rennert)
DESCRIPTION:70 Jahre Grundgesetz/30 Jahre Mauerfall\nHeeresmusikkorps Siegen\,\nKammer- und Jugendchor Ars Antiqua
URL:https://stefan-claas.de/event/wir-sind-das-volk-guido-rennert/
LOCATION:Stadthalle\, Großer Saal\, Schloßplatz 1\, 63739 Aschaffenburg\, Deutschland
END:VEVENT
END:VCALENDAR