BEGIN:VCALENDAR
VERSION:2.0
PRODID:-//Stefan Claas | Dirigent | Dozent | Arrangeur - ECPv5.2.1.1//NONSGML v1.0//EN
CALSCALE:GREGORIAN
METHOD:PUBLISH
X-WR-CALNAME:Stefan Claas | Dirigent | Dozent | Arrangeur
X-ORIGINAL-URL:https://stefan-claas.de
X-WR-CALDESC:Veranstaltungen für Stefan Claas | Dirigent | Dozent | Arrangeur
BEGIN:VTIMEZONE
TZID:Europe/Berlin
BEGIN:DAYLIGHT
TZOFFSETFROM:+0100
TZOFFSETTO:+0200
TZNAME:CEST
DTSTART:20190331T010000
END:DAYLIGHT
BEGIN:STANDARD
TZOFFSETFROM:+0200
TZOFFSETTO:+0100
TZNAME:CET
DTSTART:20191027T010000
END:STANDARD
END:VTIMEZONE
BEGIN:VEVENT
DTSTART;TZID=Europe/Berlin:20191222T153000
DTEND;TZID=Europe/Berlin:20191222T153000
DTSTAMP:20260422T115606
CREATED:20181207T153321Z
LAST-MODIFIED:20181209T091213Z
UID:519-1577028600-1577028600@stefan-claas.de
SUMMARY:Weihnachtskonzerte (1. Termin)
DESCRIPTION:Lions-Club Aschaffenburg-Pompejanum\,\nKinder-/Jugend- und Kammerchor Ars Antiqua\, Collegium musicum\, Solisten
URL:https://stefan-claas.de/event/weihnachtskonzerte-1-termin-2/
LOCATION:Herz-Jesu-Kirche\, Saarstraße 4\, 63739 Aschaffenburg\, Deutschland
END:VEVENT
END:VCALENDAR