BEGIN:VCALENDAR
VERSION:2.0
PRODID:-//Stefan Claas | Dirigent | Dozent | Arrangeur - ECPv5.2.1.1//NONSGML v1.0//EN
CALSCALE:GREGORIAN
METHOD:PUBLISH
X-WR-CALNAME:Stefan Claas | Dirigent | Dozent | Arrangeur
X-ORIGINAL-URL:https://stefan-claas.de
X-WR-CALDESC:Veranstaltungen für Stefan Claas | Dirigent | Dozent | Arrangeur
BEGIN:VTIMEZONE
TZID:Europe/Berlin
BEGIN:DAYLIGHT
TZOFFSETFROM:+0100
TZOFFSETTO:+0200
TZNAME:CEST
DTSTART:20190331T010000
END:DAYLIGHT
BEGIN:STANDARD
TZOFFSETFROM:+0200
TZOFFSETTO:+0100
TZNAME:CET
DTSTART:20191027T010000
END:STANDARD
END:VTIMEZONE
BEGIN:VEVENT
DTSTART;TZID=Europe/Berlin:20191208T180000
DTEND;TZID=Europe/Berlin:20191208T180000
DTSTAMP:20260422T120130
CREATED:20181207T153059Z
LAST-MODIFIED:20181209T091148Z
UID:515-1575828000-1575828000@stefan-claas.de
SUMMARY:Lichterkonzert (Adventskonzert)
DESCRIPTION:Main-Taunus-Kammerchor Bad Soden
URL:https://stefan-claas.de/event/lichterkonzert-adventskonzert-2/
LOCATION:Evangelische Kirche\, Zum Quellenpark 54\, 65812 Bad Soden am Taunus\, Deutschland
END:VEVENT
END:VCALENDAR