BEGIN:VCALENDAR
VERSION:2.0
PRODID:-//Stefan Claas | Dirigent | Dozent | Arrangeur - ECPv5.2.1.1//NONSGML v1.0//EN
CALSCALE:GREGORIAN
METHOD:PUBLISH
X-WR-CALNAME:Stefan Claas | Dirigent | Dozent | Arrangeur
X-ORIGINAL-URL:https://stefan-claas.de
X-WR-CALDESC:Veranstaltungen für Stefan Claas | Dirigent | Dozent | Arrangeur
BEGIN:VTIMEZONE
TZID:Europe/Berlin
BEGIN:DAYLIGHT
TZOFFSETFROM:+0100
TZOFFSETTO:+0200
TZNAME:CEST
DTSTART:20190331T010000
END:DAYLIGHT
BEGIN:STANDARD
TZOFFSETFROM:+0200
TZOFFSETTO:+0100
TZNAME:CET
DTSTART:20191027T010000
END:STANDARD
END:VTIMEZONE
BEGIN:VEVENT
DTSTART;TZID=Europe/Berlin:20190802T200000
DTEND;TZID=Europe/Berlin:20190802T200000
DTSTAMP:20260422T125949
CREATED:20181207T151858Z
LAST-MODIFIED:20190717T212731Z
UID:504-1564776000-1564776000@stefan-claas.de
SUMMARY:Aschaffenburger Bachtage
DESCRIPTION:Zelenka: Magnificat und In exitu Israel \nTelemann: Du aber\, Daniel\, gehe hin \nJ.S. Bach: Christ unser Herr zum Jordan kam (Kantate BWV 7) \nGabriela Eibenovà (Sopran)\, Margot Oitzinger (Alt)\, Georg Poplutz (Tenor)\, Mariàn Krejcik (Bass)\nKammerchor Ars Antiqua \nEnsemble Inegal\, Prag
URL:https://stefan-claas.de/event/aschaffenburger-bachtage/
LOCATION:Stiftskirche St. Peter & Alexander\, Stiftsgasse 5\, Aschaffenburg\, 63739
ORGANIZER;CN="Aschaffenburger%20Bachtage":MAILTO:info@bachtage.eu
END:VEVENT
END:VCALENDAR